BEGIN:VCALENDAR
VERSION:2.0
PRODID:-//North Creake Parish Council//Meeting Calendar//EN
CALSCALE:GREGORIAN
METHOD:PUBLISH
BEGIN:VEVENT
UID:70462-20250127@northcreakeparish.gov.uk
DTSTAMP:20260422T122653Z
DTSTART;VALUE=DATE:20250127
DTEND;VALUE=DATE:20250128
SUMMARY:Extraordinary Council Meeting &#8211\\; 27 January 2025
DESCRIPTION:Full Council Meeting\nView details: https://northcreakeparish.gov.uk/meetings/full-council-meeting-27-january-2025/
URL:https://northcreakeparish.gov.uk/meetings/full-council-meeting-27-january-2025/
END:VEVENT
END:VCALENDAR
