BEGIN:VCALENDAR
VERSION:2.0
PRODID:-//North Creake Parish Council//Meeting Calendar//EN
CALSCALE:GREGORIAN
METHOD:PUBLISH
BEGIN:VEVENT
UID:70515-20220101@northcreakeparish.gov.uk
DTSTAMP:20260422T104514Z
DTSTART;VALUE=DATE:20220101
DTEND;VALUE=DATE:20220102
SUMMARY:Council Meetings &#8211\\; 2022
DESCRIPTION:Full Council Meeting\nView details: https://northcreakeparish.gov.uk/meetings/full-council-meetings-2022/
URL:https://northcreakeparish.gov.uk/meetings/full-council-meetings-2022/
END:VEVENT
END:VCALENDAR
