BEGIN:VCALENDAR
VERSION:2.0
PRODID:-//North Creake Parish Council//Meeting Calendar//EN
CALSCALE:GREGORIAN
METHOD:PUBLISH
BEGIN:VEVENT
UID:70611-20250710@northcreakeparish.gov.uk
DTSTAMP:20260422T124011Z
DTSTART;VALUE=DATE:20250710
DTEND;VALUE=DATE:20250711
SUMMARY:Council Meeting &#8211\\; 10th July 2025
DESCRIPTION:Full Council Meeting\nView details: https://northcreakeparish.gov.uk/meetings/full-council-meeting-2/
URL:https://northcreakeparish.gov.uk/meetings/full-council-meeting-2/
END:VEVENT
END:VCALENDAR
