BEGIN:VCALENDAR
VERSION:2.0
PRODID:-//North Creake Parish Council//Meeting Calendar//EN
CALSCALE:GREGORIAN
METHOD:PUBLISH
BEGIN:VEVENT
UID:70612-20250909@northcreakeparish.gov.uk
DTSTAMP:20260422T122255Z
DTSTART;VALUE=DATE:20250909
DTEND;VALUE=DATE:20250910
SUMMARY:Council Meeting &#8211\\; 9th September 2025 POSTPONED
DESCRIPTION:Full Council Meeting\nView details: https://northcreakeparish.gov.uk/meetings/full-council-meeting-3/
URL:https://northcreakeparish.gov.uk/meetings/full-council-meeting-3/
END:VEVENT
END:VCALENDAR
