BEGIN:VCALENDAR
VERSION:2.0
PRODID:-//North Creake Parish Council//Meeting Calendar//EN
CALSCALE:GREGORIAN
METHOD:PUBLISH
BEGIN:VEVENT
UID:70613-20251009@northcreakeparish.gov.uk
DTSTAMP:20260422T104658Z
DTSTART;VALUE=DATE:20251009
DTEND;VALUE=DATE:20251010
SUMMARY:Council Meeting (rescheduled) &#8211\\; 16th October 2025
DESCRIPTION:Full Council Meeting\nView details: https://northcreakeparish.gov.uk/meetings/full-council-meeting-4/
URL:https://northcreakeparish.gov.uk/meetings/full-council-meeting-4/
END:VEVENT
END:VCALENDAR
