BEGIN:VCALENDAR
VERSION:2.0
PRODID:-//North Creake Parish Council//Meeting Calendar//EN
CALSCALE:GREGORIAN
METHOD:PUBLISH
BEGIN:VEVENT
UID:70614-20251113@northcreakeparish.gov.uk
DTSTAMP:20260422T104845Z
DTSTART;VALUE=DATE:20251113
DTEND;VALUE=DATE:20251114
SUMMARY:Council Meeting &#8211\\; 13th November 2025
DESCRIPTION:Full Council Meeting\nView details: https://northcreakeparish.gov.uk/meetings/full-council-meeting-5/
URL:https://northcreakeparish.gov.uk/meetings/full-council-meeting-5/
END:VEVENT
END:VCALENDAR
