BEGIN:VCALENDAR
VERSION:2.0
PRODID:-//North Creake Parish Council//Meeting Calendar//EN
CALSCALE:GREGORIAN
METHOD:PUBLISH
BEGIN:VEVENT
UID:70615-20251211@northcreakeparish.gov.uk
DTSTAMP:20260422T104714Z
DTSTART;VALUE=DATE:20251211
DTEND;VALUE=DATE:20251212
SUMMARY:Council Meeting &#8211\\; 11th December 2025
DESCRIPTION:Full Council Meeting\nView details: https://northcreakeparish.gov.uk/meetings/full-council-meeting-6/
URL:https://northcreakeparish.gov.uk/meetings/full-council-meeting-6/
END:VEVENT
END:VCALENDAR
