BEGIN:VCALENDAR
VERSION:2.0
PRODID:-//North Creake Parish Council//Meeting Calendar//EN
CALSCALE:GREGORIAN
METHOD:PUBLISH
BEGIN:VEVENT
UID:70622-20250515@northcreakeparish.gov.uk
DTSTAMP:20260422T085835Z
DTSTART;VALUE=DATE:20250515
DTEND;VALUE=DATE:20250516
SUMMARY:Annual Parish Meeting
DESCRIPTION:Annual Parish Meeting\nView details: https://northcreakeparish.gov.uk/meetings/annual-parish-meeting/
URL:https://northcreakeparish.gov.uk/meetings/annual-parish-meeting/
END:VEVENT
END:VCALENDAR
