BEGIN:VCALENDAR
VERSION:2.0
PRODID:-//North Creake Parish Council//Meeting Calendar//EN
CALSCALE:GREGORIAN
METHOD:PUBLISH
BEGIN:VEVENT
UID:70625-20250515@northcreakeparish.gov.uk
DTSTAMP:20260422T141419Z
DTSTART;VALUE=DATE:20250515
DTEND;VALUE=DATE:20250516
SUMMARY:Council Meeting &#8211\\; 15th May 2025
DESCRIPTION:Full Council Meeting\nView details: https://northcreakeparish.gov.uk/meetings/council-meeting/
URL:https://northcreakeparish.gov.uk/meetings/council-meeting/
END:VEVENT
END:VCALENDAR
