BEGIN:VCALENDAR
VERSION:2.0
PRODID:-//North Creake Parish Council//Meeting Calendar//EN
CALSCALE:GREGORIAN
METHOD:PUBLISH
BEGIN:VEVENT
UID:70654-20250918@northcreakeparish.gov.uk
DTSTAMP:20260422T123031Z
DTSTART;VALUE=DATE:20250918
DTEND;VALUE=DATE:20250919
SUMMARY:Council Meeting &#8211\\; 18th September 2025
DESCRIPTION:Full Council Meeting\nView details: https://northcreakeparish.gov.uk/meetings/council-meeting-thursday-18th-september-2025/
URL:https://northcreakeparish.gov.uk/meetings/council-meeting-thursday-18th-september-2025/
END:VEVENT
END:VCALENDAR
