BEGIN:VCALENDAR
VERSION:2.0
PRODID:-//North Creake Parish Council//Meeting Calendar//EN
CALSCALE:GREGORIAN
METHOD:PUBLISH
BEGIN:VEVENT
UID:70676-20260212@northcreakeparish.gov.uk
DTSTAMP:20260422T090140Z
DTSTART;VALUE=DATE:20260212
DTEND;VALUE=DATE:20260213
SUMMARY:Council Meeting &#8211\\; 12th February 2026
DESCRIPTION:Full Council Meeting\nView details: https://northcreakeparish.gov.uk/meetings/meeting-name-here/
URL:https://northcreakeparish.gov.uk/meetings/meeting-name-here/
END:VEVENT
END:VCALENDAR
